BEGIN:VCALENDAR
VERSION:2.0
CALSCALE:GREGORIAN
PRODID:-//Diputació de Barcelona//DibaCMS//EN
BEGIN:VEVENT
UID:11377
DTSTAMP:20260424T182427
DTSTART:20260429T151500
DTEND:20260429T151500
SUMMARY:Espectacle Bibliobús per l'escola
LOCATION:Centre obrer recreatiu 08585 Montesquiu
METHOD:PUBLISH
X-WR-CALNAME:montesquiu@montesquiu.cat
X-WR-TIMEZONE:Europe/Madrid
DESCRIPTION:
URI:https://www.montesquiu.cat/teatre-centre-obrer-recreatiu/programacio/espectacle-bibliobus-per-lescola.html
CLASS:PUBLIC
END:VEVENT
END:VCALENDAR
