BEGIN:VCALENDAR
VERSION:2.0
CALSCALE:GREGORIAN
PRODID:-//Diputació de Barcelona//DibaCMS//EN
BEGIN:VEVENT
UID:11376
DTSTAMP:20260424T150817
DTSTART:20260428T090000
DTEND:20260428T090000
SUMMARY:Sortida al Palau de la música
LOCATION:Nau de càrniques n Montesquiu
METHOD:PUBLISH
X-WR-CALNAME:montesquiu@montesquiu.cat
X-WR-TIMEZONE:Europe/Madrid
DESCRIPTION:
URI:https://www.montesquiu.cat/actualitat/agenda/sortida-al-palau-de-la-musica.html
CLASS:PUBLIC
END:VEVENT
END:VCALENDAR
