BEGIN:VCALENDAR
VERSION:2.0
CALSCALE:GREGORIAN
PRODID:-//Diputació de Barcelona//DibaCMS//EN
BEGIN:VEVENT
UID:11375
DTSTAMP:20260424T150754
DTSTART:20260428T103000
DTEND:20260428T120000
SUMMARY:Taller més digitals
LOCATION:Centre Cívic 08585 Montesquiu
METHOD:PUBLISH
X-WR-CALNAME:montesquiu@montesquiu.cat
X-WR-TIMEZONE:Europe/Madrid
DESCRIPTION:
URI:https://www.montesquiu.cat/actualitat/agenda/11375-taller-mes-digitals.html
CLASS:PUBLIC
END:VEVENT
END:VCALENDAR
