BEGIN:VCALENDAR
VERSION:2.0
CALSCALE:GREGORIAN
PRODID:-//Diputació de Barcelona//DibaCMS//EN
BEGIN:VEVENT
UID:11374
DTSTAMP:20260423T153758
DTSTART:20260427T080000
DTEND:20260427T080000
SUMMARY:Recollida voluminosos
LOCATION:08585 Montesquiu
METHOD:PUBLISH
X-WR-CALNAME:montesquiu@montesquiu.cat
X-WR-TIMEZONE:Europe/Madrid
DESCRIPTION:Prèvia trucada a l'Ajuntament

URI:https://www.montesquiu.cat/actualitat/agenda/11374-recollida-voluminosos.html
CLASS:PUBLIC
END:VEVENT
END:VCALENDAR
