BEGIN:VCALENDAR
VERSION:2.0
CALSCALE:GREGORIAN
PRODID:-//Diputació de Barcelona//DibaCMS//EN
BEGIN:VEVENT
UID:11371
DTSTAMP:20260422T155604
DTSTART:20260423T163000
DTEND:20260423T173000
SUMMARY:Sant Jordi
LOCATION:PL. República 08585 Montesquiu
METHOD:PUBLISH
X-WR-CALNAME:montesquiu@montesquiu.cat
X-WR-TIMEZONE:Europe/Madrid
DESCRIPTION:Joc "a la caça del drac".

Racó literari.

Berenar.

URI:https://www.montesquiu.cat/actualitat/agenda/sant-jordi.html
CLASS:PUBLIC
END:VEVENT
END:VCALENDAR
