BEGIN:VCALENDAR
VERSION:2.0
CALSCALE:GREGORIAN
PRODID:-//Diputació de Barcelona//DibaCMS//EN
BEGIN:VEVENT
UID:11360
DTSTAMP:20260424T132829
DTSTART:20260429T153000
DTEND:20260429T183000
SUMMARY:Bibliobús 
LOCATION:PL. República 08585 Montesquiu
METHOD:PUBLISH
X-WR-CALNAME:montesquiu@montesquiu.cat
X-WR-TIMEZONE:Europe/Madrid
DESCRIPTION:
URI:https://www.montesquiu.cat/actualitat/agenda/11360-bibliobus-.html
CLASS:PUBLIC
END:VEVENT
END:VCALENDAR
