BEGIN:VCALENDAR
VERSION:2.0
CALSCALE:GREGORIAN
PRODID:-//Diputació de Barcelona//DibaCMS//EN
BEGIN:VEVENT
UID:11241
DTSTAMP:20260424T180811
DTSTART:20260524T180000
DTEND:20260524T193000
SUMMARY:Teatre: “Mutis”
LOCATION:08585 Montesquiu
METHOD:PUBLISH
X-WR-CALNAME:montesquiu@montesquiu.cat
X-WR-TIMEZONE:Europe/Madrid
DESCRIPTION:
URI:https://www.montesquiu.cat/teatre-centre-obrer-recreatiu/programacio/teatre-mutis.html
CLASS:PUBLIC
END:VEVENT
END:VCALENDAR
