BEGIN:VCALENDAR
VERSION:2.0
CALSCALE:GREGORIAN
PRODID:-//Diputació de Barcelona//DibaCMS//EN
BEGIN:VEVENT
UID:11240
DTSTAMP:20260424T165302
DTSTART:20260516T190000
DTEND:20260516T210000
SUMMARY:Cinema Gaudí "Sirat"
LOCATION:08585 Montesquiu
METHOD:PUBLISH
X-WR-CALNAME:montesquiu@montesquiu.cat
X-WR-TIMEZONE:Europe/Madrid
DESCRIPTION:
URI:https://www.montesquiu.cat/teatre-centre-obrer-recreatiu/programacio/cinema-gaudi-sirat.html
CLASS:PUBLIC
END:VEVENT
END:VCALENDAR
