BEGIN:VCALENDAR
VERSION:2.0
CALSCALE:GREGORIAN
PRODID:-//Diputació de Barcelona//DibaCMS//EN
BEGIN:VEVENT
UID:11239
DTSTAMP:20260422T155044
DTSTART:20260425T190000
DTEND:20260425T203000
SUMMARY:Recital de rumba i poesia: “Rumbesia”
LOCATION:08585 Montesquiu
METHOD:PUBLISH
X-WR-CALNAME:montesquiu@montesquiu.cat
X-WR-TIMEZONE:Europe/Madrid
DESCRIPTION:
URI:https://www.montesquiu.cat/teatre-centre-obrer-recreatiu/programacio/recital-de-rumba-i-poesia-rumbesia.html
CLASS:PUBLIC
END:VEVENT
END:VCALENDAR
