BEGIN:VCALENDAR
VERSION:2.0
CALSCALE:GREGORIAN
PRODID:-//Diputació de Barcelona//DibaCMS//EN
BEGIN:VEVENT
UID:11185
DTSTAMP:20260426T023137
DTSTART:20260126T000000
DTEND:20260126T000000
SUMMARY:Recollida de voluminosos
LOCATION:08585 Montesquiu
METHOD:PUBLISH
X-WR-CALNAME:montesquiu@montesquiu.cat
X-WR-TIMEZONE:Europe/Madrid
DESCRIPTION:Prèvia trucada a l'Ajuntament 

URI:https://www.montesquiu.cat/actualitat/agenda/11185-recollida-de-voluminosos.html
CLASS:PUBLIC
END:VEVENT
END:VCALENDAR
